BEGIN:VCALENDAR
VERSION:2.0
PRODID:-//ChamberMaster//Event Calendar 2.0//EN
METHOD:PUBLISH
X-PUBLISHED-TTL:P3D
REFRESH-INTERVAL:P3D
CALSCALE:GREGORIAN
BEGIN:VEVENT
DTSTART:20100924T230000Z
DTEND:20100925T053000Z
X-MICROSOFT-CDO-ALLDAYEVENT:FALSE
SUMMARY:Event at Sacred Heart Church
DESCRIPTION:Sacred Heart Parish\, 13716 Saratoga Ave\, is hosting its first Carnival.  Hours of operation are:\n\nFriday\, Sept. 24 ? 4pm-10:30pm\n\nSaturday September 25 ? 12pm-10:30pm\n\nSunday September 26 ? 12pm ? 6pm.\n\nSacred Heart and Wold Amusement are teamed to bring a weekend of food\, fun\, and entertainment to the community.  In addition to 10 amusement rides\, numerous games booths\, and the ever popular dunk tank and BINGO\, the carnival will provide a bountiful assortment of foods ? tri-tip\, chicken\, hot dogs\, hamburgers\, Chinese chicken salad\, kettle corn\, ice cream\, kabobs\, and the list goes on.  Various soft drinks and water will be available for purchase.  \n\nFor those over 21\, beer\, wine and margarita?s will be on sale at our Cantina.  \n\n\n\n \n\n\n\nOn the stage we will be offering a variety of entertainment throughout the day on Saturday and Sunday.  In particular is the popular band ?Sage? who will perform on Saturday night beginning at 7pm.  \n\n\n\n \n\n\n\nAmusement rides are 4 or 5 tickets per ride ? ride tickets as well as Raffle tickets are available in advance at either the parish or school offices.  Tickets will be available during the event as well.\n\n\n\n \n\n\n\nDon?t miss the fun!  We?ll hope to see you there.
X-ALT-DESC;FMTTYPE=text/html:Sacred Heart Parish\, 13716 Saratoga Ave\, is hosting its first Carnival.  Hours of operation are:\n<br>Friday\, Sept. 24 ? 4pm-10:30pm\n<br>Saturday September 25 ? 12pm-10:30pm\n<br>Sunday September 26 ? 12pm ? 6pm.\n<br>Sacred Heart and Wold Amusement are teamed to bring a weekend of food\, fun\, and entertainment to the community.  In addition to 10 amusement rides\, numerous games booths\, and the ever popular dunk tank and BINGO\, the carnival will provide a bountiful assortment of foods ? tri-tip\, chicken\, hot dogs\, hamburgers\, Chinese chicken salad\, kettle corn\, ice cream\, kabobs\, and the list goes on.  Various soft drinks and water will be available for purchase.  \n<br>For those over 21\, beer\, wine and margarita?s will be on sale at our Cantina.  \n<br>\n<br> \n<br>\n<br>On the stage we will be offering a variety of entertainment throughout the day on Saturday and Sunday.  In particular is the popular band ?Sage? who will perform on Saturday night beginning at 7pm.  \n<br>\n<br> \n<br>\n<br>Amusement rides are 4 or 5 tickets per ride ? ride tickets as well as Raffle tickets are available in advance at either the parish or school offices.  Tickets will be available during the event as well.\n<br>\n<br> \n<br>\n<br>Don?t miss the fun!  We?ll hope to see you there.\n<br>
LOCATION:13716 Saratoga Avenue
UID:e.517.279
SEQUENCE:3
DTSTAMP:20260423T215836Z
URL:https://members.saratogachamber.org/events/details/event-at-sacred-heart-church-09-24-2010-279
END:VEVENT

END:VCALENDAR
