BEGIN:VCALENDAR
VERSION:2.0
PRODID:-//ChamberMaster//Event Calendar 2.0//EN
METHOD:PUBLISH
X-PUBLISHED-TTL:P3D
REFRESH-INTERVAL:P3D
CALSCALE:GREGORIAN
BEGIN:VEVENT
DTSTART:20100521T020000Z
DTEND:20100521T043000Z
X-MICROSOFT-CDO-ALLDAYEVENT:FALSE
SUMMARY:Event at AAUW / Los Gatos - Saratoga
DESCRIPTION:Sheriff Laurie Smith will speak on History of Women in Law Enforcement at our General Meeting.\n\nIt is Free and All are welcome
X-ALT-DESC;FMTTYPE=text/html:Sheriff Laurie Smith will speak on History of Women in Law Enforcement at our General Meeting.\n<br>It is Free and All are welcome
LOCATION:Saratoga Library\, Community Room
UID:e.517.252
SEQUENCE:3
DTSTAMP:20260424T031817Z
URL:https://members.saratogachamber.org/events/details/event-at-aauw-los-gatos-saratoga-05-20-2010-252
END:VEVENT

END:VCALENDAR
