BEGIN:VCALENDAR
VERSION:2.0
PRODID:-//ChamberMaster//Event Calendar 2.0//EN
METHOD:PUBLISH
X-PUBLISHED-TTL:P3D
REFRESH-INTERVAL:P3D
CALSCALE:GREGORIAN
BEGIN:VEVENT
DTSTART:20100225T210000Z
DTEND:20100225T230000Z
X-MICROSOFT-CDO-ALLDAYEVENT:FALSE
SUMMARY:Event at AAUW / Los Gatos - Saratoga
DESCRIPTION:AAUW general Meeting. Speaker Kimpberly Connors\, from Santa Clara County District Attorney office speaking on "Avoid Being a Scam Victim" All are welcome.
X-ALT-DESC;FMTTYPE=text/html:AAUW general Meeting. Speaker Kimpberly Connors\, from Santa Clara County District Attorney office speaking on "Avoid Being a Scam Victim" All are welcome.
LOCATION:Saratoga Library\, Community Room\, 13650 Saratoga Avenue\, Saratoga
UID:e.517.215
SEQUENCE:3
DTSTAMP:20260424T084231Z
URL:https://members.saratogachamber.org/events/details/event-at-aauw-los-gatos-saratoga-02-25-2010-215
END:VEVENT

END:VCALENDAR
