BEGIN:VCALENDAR
VERSION:2.0
PRODID:-//ChamberMaster//Event Calendar 2.0//EN
METHOD:PUBLISH
X-PUBLISHED-TTL:P3D
REFRESH-INTERVAL:P3D
CALSCALE:GREGORIAN
BEGIN:VEVENT
DTSTART:20090606T233000Z
DTEND:20090607T033000Z
X-MICROSOFT-CDO-ALLDAYEVENT:FALSE
SUMMARY:English High Tea Benefit Gala
DESCRIPTION:You are cordially invited to attend Shady Shakespeare Theatre Company?s2009 Fundraising Gala Event:\nEnglish High Tea!  Events Include:\n    * Lawn Activities and Parlour Games (croquet\, lawn bowling\, badminton)\n    * English High Tea   (Tea\, scones\, sandwiches\, meal\, champagne\, and dessert)\n    * Shakespearean Frivolity\n    * Silent Auction and other Fundraising Activities               \n    * Attire is casual
X-ALT-DESC;FMTTYPE=text/html:You are cordially invited to attend Shady Shakespeare Theatre Company?s2009 Fundraising Gala Event:\nEnglish High Tea!  Events Include:\n    * Lawn Activities and Parlour Games (croquet\, lawn bowling\, badminton)\n    * English High Tea   (Tea\, scones\, sandwiches\, meal\, champagne\, and dessert)\n    * Shakespearean Frivolity\n    * Silent Auction and other Fundraising Activities               \n    * Attire is casual\n
LOCATION:The Jamison-Brown House (Triton Museum lawn area) 1507 Warburton Avenue Santa Clara\, California 95050
UID:e.517.174
SEQUENCE:3
DTSTAMP:20260424T182046Z
URL:https://members.saratogachamber.org/events/details/english-high-tea-benefit-gala-06-06-2009-174
END:VEVENT

END:VCALENDAR
