BEGIN:VCALENDAR
VERSION:2.0
PRODID:-//ChamberMaster//Event Calendar 2.0//EN
METHOD:PUBLISH
X-PUBLISHED-TTL:P3D
REFRESH-INTERVAL:P3D
CALSCALE:GREGORIAN
BEGIN:VEVENT
DTSTART:20100813T213000Z
DTEND:20100813T233000Z
X-MICROSOFT-CDO-ALLDAYEVENT:FALSE
SUMMARY:Emergency Preparedness for Business FREE Seminar
DESCRIPTION:Disaster History:  For the business community. How do businesses typically fare and do you fit the typical profile?Hazard Analysis:  Earthquake\, Fire and Other.  What do the identified risks mean for Saratoga businessesStructural damage to your businessInterruption of utilitiesVanishing customersInaccessible suppliersInsurance mattersInfrastructure damage   people can't get to youPrevention and Mitigation:  What can you do now to either prevent bad things from happening\, or make the consequences of bad things not so bad by anticipating what will happen: Preparedness.Planning   what steps need to be taken now to get readyTraining   what can you and your staff learn to get readyResponse:  What should you be doing the day of a disaster?Recovery:  Will you be able to put your business back together again\, or will you go out of business forever? Planning is the key.Relationships are the key:  Who do you need to be connected to in order to succeed.Get Prepared   don't wait till disaster hits!!
X-ALT-DESC;FMTTYPE=text/html:<div><div style="margin: 0in 0in 0pt 0.25in"><b>Disaster History:</b>&nbsp\; For the business community. How do businesses typically fare and do you fit the typical profile?</div><div style="margin: 0in 0in 0pt 0.25in"><b>Hazard Analysis:</b>&nbsp\; Earthquake\, Fire and Other.&nbsp\; What do the identified risks mean for Saratoga businesses</div><div style="margin: 0in 0in 0pt 0.75in">Structural damage to your business</div><div style="margin: 0in 0in 0pt 0.75in">Interruption of utilities</div><div style="margin: 0in 0in 0pt 0.75in">Vanishing customers</div><div style="margin: 0in 0in 0pt 0.75in">Inaccessible suppliers</div><div style="margin: 0in 0in 0pt 0.75in">Insurance matters</div><div style="margin: 0in 0in 0pt 0.75in">Infrastructure damage &ndash\; people can&rsquo\;t get to you</div><div style="margin: 0in 0in 0pt 0.25in"><b>Prevention and Mitigation:&nbsp\; </b>What can you do now to either prevent bad things from happening\, or make the consequences of bad things not so bad by anticipating what will happen: Preparedness.</div><div style="margin: 0in 0in 0pt 0.75in">Planning &ndash\; what steps need to be taken now to get ready</div><div style="margin: 0in 0in 0pt 0.75in">Training &ndash\; what can you and your staff learn to get ready</div><div style="margin: 0in 0in 0pt 0.25in"><b>Response:&nbsp\; </b>What should you be doing the day of a disaster?</div><div style="margin: 0in 0in 0pt 0.25in"><b>Recovery:&nbsp\; </b>Will you be able to put your business back together again\, or will you go out of business forever? Planning is the key.</div><div style="margin: 0in 0in 0pt 0.25in"><b>Relationships are the key:&nbsp\;&nbsp\;</b>Who do you need to be connected to in order to succeed.</div><div style="text-align: center\; margin: 0in 0in 0pt 0.25in" align="center"><b><i>Get Prepared &ndash\; don&rsquo\;t wait till disaster hits!!</i></b></div></div>
LOCATION:Saratoga Fire Station - Training Room14380 Saratoga Ave.Saratoga\, CA (Across the street from Starbucks.)
UID:e.517.269
SEQUENCE:3
DTSTAMP:20260423T231900Z
URL:https://members.saratogachamber.org/events/details/emergency-preparedness-for-business-free-seminar-08-13-2010-269
END:VEVENT

END:VCALENDAR
