BEGIN:VCALENDAR
VERSION:2.0
PRODID:-//ChamberMaster//Event Calendar 2.0//EN
METHOD:PUBLISH
X-PUBLISHED-TTL:P3D
REFRESH-INTERVAL:P3D
CALSCALE:GREGORIAN
BEGIN:VEVENT
DTSTART;VALUE=DATE:20090927
DTEND;VALUE=DATE:20090928
TRANSP:TRANSPARENT
X-MICROSOFT-CDO-ALLDAYEVENT:TRUE
SUMMARY:Dine Under the Oaks
DESCRIPTION:The Saratoga Historical Foundation invites the public to ?Dine Under the Oaks? at its annual barbecue held at the Garrod Ranch and the Cooper-Garrod Estate Winery in Saratoga on Sunday\, September 27.\n\nA silent auction will be held that includes gift certificates\, weekend retreats and other gift items.  All funds go toward maintaining the Saratoga Historical Foundation's operations. Additional entertainment includes the Skillet-Likkers\, a country and western band.\n\nThe barbecue runs from 4 to 7 PM. Tickets are $30 for children\;  $40 for members\; $50 for nonmembers and $60 for one BBQ ticket and membership in the Foundation.  Checks should be made out to Saratoga Historical Foundation and mailed to PO Box 172\, Saratoga\, CA 95071.  The deadline for reservations is September 21.  For more information\, contact Nancy Anderson at nancy@saratogahistory.com or go up to the website: http://www.saratogahistory.com.
X-ALT-DESC;FMTTYPE=text/html:The Saratoga Historical Foundation invites the public to ?Dine Under the Oaks? at its annual barbecue held at the Garrod Ranch and the Cooper-Garrod Estate Winery in Saratoga on Sunday\, September 27.\n\nA silent auction will be held that includes gift certificates\, weekend retreats and other gift items.  All funds go toward maintaining the Saratoga Historical Foundation's operations. Additional entertainment includes the Skillet-Likkers\, a country and western band.\n\nThe barbecue runs from 4 to 7 PM. Tickets are $30 for children\;  $40 for members\; $50 for nonmembers and $60 for one BBQ ticket and membership in the Foundation.  Checks should be made out to Saratoga Historical Foundation and mailed to PO Box 172\, Saratoga\, CA 95071.  The deadline for reservations is September 21.  For more information\, contact Nancy Anderson at nancy@saratogahistory.com or go up to the website: http://www.saratogahistory.com.\n
LOCATION:Garrod Ranch and Cooper-Garrod Estate Winery in Saratoga
UID:e.517.201
SEQUENCE:3
DTSTAMP:20260424T141923Z
URL:https://members.saratogachamber.org/events/details/dine-under-the-oaks-09-27-2009-201
END:VEVENT

END:VCALENDAR
