BEGIN:VCALENDAR
VERSION:2.0
PRODID:-//ChamberMaster//Event Calendar 2.0//EN
METHOD:PUBLISH
X-PUBLISHED-TTL:P3D
REFRESH-INTERVAL:P3D
CALSCALE:GREGORIAN
BEGIN:VEVENT
DTSTART:20091106T210000Z
DTEND:20100201T000000Z
X-MICROSOFT-CDO-ALLDAYEVENT:FALSE
SUMMARY:Did You Know
DESCRIPTION:For immediate release:   ?Did You Know?100 Unique Facts About Saratoga People and Places?\, a new exhibit will open at the Saratoga History Museum on November 6 and run through the end of January.  The best place to kiss\; where ghosts have been seen\; the official Town Character\; Olympic medalists\; Bocci Rock sighting and more all contribute to the rich history of Saratoga. Ghosts\, Champagne and Volleyball ?a look at over 80 Saratoga People and Places both contemporary and historic will be running in tandem with the exhibit. Think you know the history of Saratoga? Find out more! The Saratoga History Museum and historic McWilliams house is open from 1 to 4PM Friday\, Saturday and Sunday.  The Museum and McWilliams House is located at 20450 Saratoga-Los Gatos Road in Saratoga. \n                                                                 ###\n\n\nThe Saratoga Historical Foundation is a non-profit organization and operates the Saratoga History Museum and historic McWilliams house. Located at 20450 Saratoga-Los Gatos Road\, the Saratoga History Museum contains one of the largest collections of history and memorabilia on the town and people of Saratoga. The museum is open Friday through Sunday from 1 to 4 PM. Docent tours are available as well as for the nearby historic McWilliams house\, a restored 1860's home. A walking tour of some of the town's historic buildings and landmarks is available along with a historic house bicycle ride map. You can write for more information to PO Box 172 Saratoga\, CA 95071 or go up to the website at http://www.saratogahistory.com.
X-ALT-DESC;FMTTYPE=text/html:For immediate release:   ?Did You Know?100 Unique Facts About Saratoga People and Places?\, a new exhibit will open at the Saratoga History Museum on November 6 and run through the end of January.  The best place to kiss\; where ghosts have been seen\; the official Town Character\; Olympic medalists\; Bocci Rock sighting and more all contribute to the rich history of Saratoga. Ghosts\, Champagne and Volleyball ?a look at over 80 Saratoga People and Places both contemporary and historic will be running in tandem with the exhibit. Think you know the history of Saratoga? Find out more! The Saratoga History Museum and historic McWilliams house is open from 1 to 4PM Friday\, Saturday and Sunday.  The Museum and McWilliams House is located at 20450 Saratoga-Los Gatos Road in Saratoga. \n                                                                 ###\n\n\nThe Saratoga Historical Foundation is a non-profit organization and operates the Saratoga History Museum and historic McWilliams house. Located at 20450 Saratoga-Los Gatos Road\, the Saratoga History Museum contains one of the largest collections of history and memorabilia on the town and people of Saratoga. The museum is open Friday through Sunday from 1 to 4 PM. Docent tours are available as well as for the nearby historic McWilliams house\, a restored 1860's home. A walking tour of some of the town's historic buildings and landmarks is available along with a historic house bicycle ride map. You can write for more information to PO Box 172 Saratoga\, CA 95071 or go up to the website at http://www.saratogahistory.com. \n\n
LOCATION:Saratoga History Museum at 20450 Saratoga-Los Gatos Road\, Saratoga
UID:e.517.204
SEQUENCE:3
DTSTAMP:20260424T083947Z
URL:https://members.saratogachamber.org/events/details/did-you-know-11-06-2009-204
END:VEVENT

END:VCALENDAR
