BEGIN:VCALENDAR
VERSION:2.0
PRODID:-//ChamberMaster//Event Calendar 2.0//EN
METHOD:PUBLISH
X-PUBLISHED-TTL:P3D
REFRESH-INTERVAL:P3D
CALSCALE:GREGORIAN
BEGIN:VEVENT
DTSTART:20091210T013000Z
DTEND:20091210T030000Z
X-MICROSOFT-CDO-ALLDAYEVENT:FALSE
SUMMARY:December Holiday Mixer & Chamber office Ribbon Cutting
DESCRIPTION:Come out and join us for a Holiday Mixer at our New Location!We will also have a Ribbon Cutting for our New Location! We are at 14460 Big Basin Way\, Saratoga next door to Bank of America.  There will be lots of good food\, soda & wine and Holiday Spirit.  Come join us!
X-ALT-DESC;FMTTYPE=text/html:<div><div>Come out and join us for a Holiday Mixer at our New Location!</div><div>We will also have a Ribbon Cutting for our New Location!</div></div><div>&nbsp\;</div><div>We are at 14460 Big Basin Way\, Saratoga next door to Bank of America.&nbsp\;</div><div>&nbsp\;</div><div>There will be lots of good food\, soda &amp\; wine and Holiday Spirit.&nbsp\; Come join us!</div><div>&nbsp\;</div><div>&nbsp\;</div>
LOCATION:14460 Big Basin WaySaratoga\, CA Next door to Bank of America
UID:e.517.206
SEQUENCE:3
DTSTAMP:20260424T102042Z
URL:https://members.saratogachamber.org/events/details/december-holiday-mixer-chamber-office-ribbon-cutting-12-09-2009-206
END:VEVENT

END:VCALENDAR
