BEGIN:VCALENDAR
VERSION:2.0
PRODID:-//ChamberMaster//Event Calendar 2.0//EN
METHOD:PUBLISH
X-PUBLISHED-TTL:P3D
REFRESH-INTERVAL:P3D
CALSCALE:GREGORIAN
BEGIN:VEVENT
DTSTART:20110226T213000Z
DTEND:20110227T003000Z
X-MICROSOFT-CDO-ALLDAYEVENT:FALSE
SUMMARY:Day of Dance presented by El Camino Women's Hospital
DESCRIPTION:Day of Dance welcomes the entire community to dance\, celebrate good health and learn about cardiovascular disease. It brings together women and men of all ages for a day of education\, physical activity\, community\, celebration and fun! Day of Dance includes a variety of activities including dance demonstrations ranging from line dancing to Zumba\, 8 FREE health screenings\, individual consultations with physicians\, heart healthy information\, giveaways and more! Visit our website for complete event details- www.elcaminohospital.org/dayofdance
X-ALT-DESC;FMTTYPE=text/html:Day of Dance welcomes the entire community to dance\, celebrate good health and learn about cardiovascular disease. It brings together women and men of all ages for a day of education\, physical activity\, community\, celebration and fun! Day of Dance includes a variety of activities including dance demonstrations ranging from line dancing to Zumba\, 8 FREE health screenings\, individual consultations with physicians\, heart healthy information\, giveaways and more! Visit our website for complete event details- www.elcaminohospital.org/dayofdance\n<br>\n<br>
LOCATION:Saint Francis High School Gym
UID:e.517.327
SEQUENCE:3
DTSTAMP:20260423T155007Z
URL:https://members.saratogachamber.org/events/details/day-of-dance-presented-by-el-camino-women-s-hospital-02-26-2011-327
END:VEVENT

END:VCALENDAR
