BEGIN:VCALENDAR
VERSION:2.0
PRODID:-//ChamberMaster//Event Calendar 2.0//EN
METHOD:PUBLISH
X-PUBLISHED-TTL:P3D
REFRESH-INTERVAL:P3D
CALSCALE:GREGORIAN
BEGIN:VEVENT
DTSTART:20110422T013000Z
DTEND:20110422T033000Z
X-MICROSOFT-CDO-ALLDAYEVENT:FALSE
SUMMARY:Creating a Low Maintenance Home
DESCRIPTION:This educational workshop will give you the facts about what risks your home (and pocketbook) face if you continue to ignore its routine maintenance needs. Your home may be your single most expensive investment\, and with the right educational "tools" you can ensure your home's longevity\, reduce your energy and maintenance costs and create a healthy and durable space.\n\n\n\nWhat does your home need today\, this year\, and in the upcoming years?\n\nSpring and summer are around the corner is your home ready? Learn what you can do to prepare your home and reduce your expenses.\n\nWhen to caulk\, paint and seal your home's surfaces and why!\n\nPeeling paint is not just ugly\, it can quickly "lighten" you wallet.\n\nDon't gamble with the roof above your head. What will this winter's storms and plant debris cost you this year? Learn 5 steps to keep your roof protected and in tip top shape.\n\nHow to spend less time with your vacuum cleaner\, have better indoor air quality and a clean house!\n\nLearn from our experts about new products and ideas that can create the lower maintenance home you've always wanted!\n\n\n\nThursday April 21st\n\n6:30pm - 8:30pm\n\nRegistration and light dinner at 6:15pm\n\nHarrell Remodeling Design Center\, Mountain View\, CA\n\nTo Register and for more information on this class please visit www.harrell-remodeling.com or call us at 650-230-2900
X-ALT-DESC;FMTTYPE=text/html:This educational workshop will give you the facts about what risks your home (and pocketbook) face if you continue to ignore its routine maintenance needs. Your home may be your single most expensive investment\, and with the right educational &quot\;tools&quot\; you can ensure your home&#39\;s longevity\, reduce your energy and maintenance costs and create a healthy and durable space.<br />\n<br />\nWhat does your home need today\, this year\, and in the upcoming years?<br />\nSpring and summer are around the corner is your home ready? Learn what you can do to prepare your home and reduce your expenses.<br />\nWhen to caulk\, paint and seal your home&#39\;s surfaces and why!<br />\nPeeling paint is not just ugly\, it can quickly &quot\;lighten&quot\; you wallet.<br />\nDon&#39\;t gamble with the roof above your head. What will this winter&#39\;s storms and plant debris cost you this year? Learn 5 steps to keep your roof protected and in tip top shape.<br />\nHow to spend less time with your vacuum cleaner\, have better indoor air quality and a clean house!<br />\nLearn from our experts about new products and ideas that can create the lower maintenance home you&#39\;ve always wanted!<br />\n<br />\nThursday April 21st<br />\n6:30pm&nbsp\;- 8:30pm<br />\nRegistration and light dinner at 6:15pm<br />\nHarrell Remodeling Design Center\, Mountain View\, CA<br />\nTo Register and for more information on this class please visit www.harrell-remodeling.com or call us at 650-230-2900<br />\n
LOCATION:Harrell Remodeling Design Center 1954 Old Middlefield Way Mounatin View\, CA 94043
UID:e.517.345
SEQUENCE:3
DTSTAMP:20260423T130347Z
URL:https://members.saratogachamber.org/events/details/creating-a-low-maintenance-home-04-21-2011-345
END:VEVENT

END:VCALENDAR
