BEGIN:VCALENDAR
VERSION:2.0
PRODID:-//ChamberMaster//Event Calendar 2.0//EN
METHOD:PUBLISH
X-PUBLISHED-TTL:P3D
REFRESH-INTERVAL:P3D
CALSCALE:GREGORIAN
BEGIN:VEVENT
DTSTART:20111002T230000Z
DTEND:20111003T030000Z
X-MICROSOFT-CDO-ALLDAYEVENT:FALSE
SUMMARY:Celebrate Saratoga's Pioneers-- Annual BBQ and Silent Auction
DESCRIPTION:Celebrate Saratoga's Pioneers\, a Saratoga Historical Foundation fundraiser featuring a barbecue dinner\, pioneer speakers\, music\, live and silent auction will take place October 2. The event will take place at the historic Saratoga Springs Campground in Saratoga.\n\n\n\nAccording to SHF President Annette Stransky\, "this is our major fundraiser for the year. We depend on fundraising\, grants\, and membership dues for funding services and programs. With the proceeds from this event we want to purchase new lights and audiovisual equipment for the museum." \n\nThe event will begin at 4 PM with wine and catered hors d'oeuvres. The dinner takes place in a wooded setting just a short walk from where William Campbell had a water powered saw mill in 1848. The dinner menu will include BBQ chicken. steak\, vegetarian burger with country beans\, corn on the cob\, salad and dessert. \n\nThe silent auction will offer gift certificates for clothing\, restaurants\, local wine\, spa\, whale watching\, Niles Canyon railroad rides\, original art from local artists\, vintage jewelry\, a commemorative 49er autographed football  over 100 items to choose from.\n\n\n\nThe live auction includes a five-hour sailing trip on the San Francisco Bay\, weekend retreat with a Santa Cruz beachhouse\; a painting of Saratoga from well-known artist David Stonesifer\; commemorative replica of the 2008 Olympics Beijing stadium and more.\n\n\n\nThe Skillet Likkers will play during the cocktail hour. Short talks by local pioneers such as Mimi Gianini will preceed the auctions.\n\n\n\nTickets are on sale by calling 408-255-1883 or by downloading a ticket at www.saratogahistory.com.
X-ALT-DESC;FMTTYPE=text/html:<span style="color:black\;">Celebrate Saratoga&rsquo\;s Pioneers\, a Saratoga Historical Foundation fundraiser featuring a barbecue dinner\, pioneer speakers\, music\, live and silent auction will take place October 2. The event will take place at the historic Saratoga Springs Campground in Saratoga.</span><br />\n<br />\n<span style="color:black\;">According to SHF President Annette Stransky\, &quot\;this is our major fundraiser for the year. We depend on fundraising\, grants\, and membership dues for funding services and programs. With the proceeds from this event we want to purchase new lights and audiovisual equipment for the museum.&quot\; </span><br />\n<span style="color:black\;">The event will begin at 4 PM with wine and catered hors d&rsquo\;oeuvres. The dinner takes place in a wooded setting just a short walk from where William Campbell had a water powered saw mill in 1848. The dinner menu will include BBQ chicken. steak\, vegetarian burger with country beans\, corn on the cob\, salad and dessert. </span><br />\n<span style="color:black\;">The silent auction will offer gift certificates for clothing\, restaurants\, local wine\, spa\, whale watching\, Niles Canyon railroad rides\, original art from local artists\, vintage jewelry\, a commemorative 49er autographed football &mdash\;over 100 items to choose from.</span><br />\n<br />\n<span style="color:black\;">The live auction includes a five-hour sailing trip on the San Francisco Bay\, weekend retreat with a Santa Cruz beachhouse\; a painting of Saratoga from well-known artist David Stonesifer\; commemorative replica of the 2008 Olympics Beijing stadium and more.</span><br />\n<br />\n<span style="color:black\;">The Skillet Likkers will play during the cocktail hour. Short talks by local pioneers such as Mimi Gianini will preceed the auctions.</span><br />\n<br />\n<span style="color:black\;">Tickets are on sale by calling 408-255-1883 or by downloading a ticket at <a href="http://www.saratogahistory.com/" target="_blank">www.saratogahistory.com</a>.</span>
LOCATION:Saratoga Springs Campground 22801 Big Basin Way Saratoga\, CA
UID:e.517.1269
SEQUENCE:3
DTSTAMP:20260421T081407Z
URL:https://members.saratogachamber.org/events/details/celebrate-saratoga-s-pioneers-annual-bbq-and-silent-auction-10-02-2011-1269
END:VEVENT

END:VCALENDAR
