BEGIN:VCALENDAR
VERSION:2.0
PRODID:-//ChamberMaster//Event Calendar 2.0//EN
METHOD:PUBLISH
X-PUBLISHED-TTL:P3D
REFRESH-INTERVAL:P3D
CALSCALE:GREGORIAN
BEGIN:VEVENT
DTSTART:20250720T010000Z
DTEND:20250720T040000Z
X-MICROSOFT-CDO-ALLDAYEVENT:FALSE
SUMMARY:Car Show Kick-Off Party
DESCRIPTION:Location to TBD
X-ALT-DESC;FMTTYPE=text/html:Location to TBD
LOCATION:
UID:e.517.10131
SEQUENCE:3
DTSTAMP:20260420T061618Z
URL:https://members.saratogachamber.org/events/details/car-show-kick-off-party-10131
END:VEVENT

END:VCALENDAR
