BEGIN:VCALENDAR
VERSION:2.0
PRODID:-//ChamberMaster//Event Calendar 2.0//EN
METHOD:PUBLISH
X-PUBLISHED-TTL:P3D
REFRESH-INTERVAL:P3D
CALSCALE:GREGORIAN
BEGIN:VEVENT
DTSTART:20240620T000000Z
DTEND:20240620T020000Z
X-MICROSOFT-CDO-ALLDAYEVENT:FALSE
SUMMARY:Business Networking Mixer - PingPong.info
DESCRIPTION:Join us for the June Business Networking Mixer hosted by PingPong.inc\n\nWhy You Should Attend:\n\nConnect with Like-Minded Businesses: This is your chance to network with fellow professionals and expand your business connections.\n\nLight Bites & Refreshments: Enjoy delicious snacks and receive two tickets for wine or non-alcoholic beverages.\n\nBusiness Card Drawing: Drop your business card for a chance to win exciting prizes!\n\n\nHighlights:\n\nFree Event: No cost to attend just bring your business cards and a positive attitude!\n\nFun Atmosphere: Meet new people in a relaxed\, friendly environment.\n\nExpand Your Network: Grow your professional circle and discover potential business opportunities.
X-ALT-DESC;FMTTYPE=text/html:<p><span style="color:#3e4454\;"><span style="font-family:arial\;"><strong><span id="docs-internal-guid-6f005005-7fff-f30f-c579-dde9417b3191"><span style="background-color: transparent\; font-variant-numeric: normal\; font-variant-east-asian: normal\; font-variant-alternates: normal\; font-variant-position: normal\; vertical-align: baseline\; white-space-collapse: preserve\;">Join us for the </span><span style="background-color: transparent\; font-weight: 700\; font-variant-numeric: normal\; font-variant-east-asian: normal\; font-variant-alternates: normal\; font-variant-position: normal\; vertical-align: baseline\; white-space-collapse: preserve\;">June Business Networking Mixer</span><span style="background-color: transparent\; font-variant-numeric: normal\; font-variant-east-asian: normal\; font-variant-alternates: normal\; font-variant-position: normal\; vertical-align: baseline\; white-space-collapse: preserve\;"> hosted by PingPong.inc</span></span></strong></span></span></p>\n\n<p dir="ltr" style="line-height:1.38\;margin-top:12pt\;margin-bottom:12pt\;"><span style="color:#3e4454\;"><span style="font-size:12px\;"><span style="font-family:arial\;"><span id="docs-internal-guid-e1588e71-7fff-0622-7b77-444dc006d816"><span style="background-color: transparent\; font-weight: 700\; font-variant-numeric: normal\; font-variant-east-asian: normal\; font-variant-alternates: normal\; font-variant-position: normal\; vertical-align: baseline\; white-space-collapse: preserve\;">Why You Should Attend:</span></span></span></span></span></p>\n\n<p dir="ltr" style="line-height:1.38\;margin-top:12pt\;margin-bottom:12pt\;"><span style="color:#3e4454\;"><span id="docs-internal-guid-e1588e71-7fff-0622-7b77-444dc006d816"><span style="font-size:12px\;"><span style="font-family:arial\;"><span style="background-color: transparent\; font-weight: 700\; font-variant-numeric: normal\; font-variant-east-asian: normal\; font-variant-alternates: normal\; font-variant-position: normal\; vertical-align: baseline\; white-space-collapse: preserve\;">Connect with Like-Minded Businesses:</span></span></span><span style="font-size: 12pt\; font-family: Arial\, sans-serif\; background-color: transparent\; font-variant-numeric: normal\; font-variant-east-asian: normal\; font-variant-alternates: normal\; font-variant-position: normal\; vertical-align: baseline\; white-space-collapse: preserve\;"><span style="font-size:12px\;"><span style="font-family:arial\;"> This is your chance to network with fellow professionals and expand your business connections.</span></span></span></span></span></p>\n\n<p dir="ltr" style="line-height:1.38\;margin-top:12pt\;margin-bottom:12pt\;"><span style="color:#3e4454\;"><span id="docs-internal-guid-e1588e71-7fff-0622-7b77-444dc006d816"><span style="font-size:12px\;"><span style="font-family:arial\;"><span style="background-color: transparent\; font-weight: 700\; font-variant-numeric: normal\; font-variant-east-asian: normal\; font-variant-alternates: normal\; font-variant-position: normal\; vertical-align: baseline\; white-space-collapse: preserve\;">Light Bites &amp\; Refreshments:</span></span></span><span style="font-size: 12pt\; font-family: Arial\, sans-serif\; background-color: transparent\; font-variant-numeric: normal\; font-variant-east-asian: normal\; font-variant-alternates: normal\; font-variant-position: normal\; vertical-align: baseline\; white-space-collapse: preserve\;"><span style="font-family:arial\;"> </span><span style="font-size:12px\;"><span style="font-family:arial\;">Enjoy delicious snacks and receive two tickets for wine or non-alcoholic beverages.</span></span></span></span></span></p>\n\n<p dir="ltr" style="line-height:1.38\;margin-top:12pt\;margin-bottom:12pt\;"><span style="color:#3e4454\;"><span id="docs-internal-guid-e1588e71-7fff-0622-7b77-444dc006d816"><span style="font-size:12px\;"><span style="font-family:arial\;"><span style="background-color: transparent\; font-weight: 700\; font-variant-numeric: normal\; font-variant-east-asian: normal\; font-variant-alternates: normal\; font-variant-position: normal\; vertical-align: baseline\; white-space-collapse: preserve\;">Business Card Drawing:</span></span></span><span style="font-size: 12pt\; font-family: Arial\, sans-serif\; background-color: transparent\; font-variant-numeric: normal\; font-variant-east-asian: normal\; font-variant-alternates: normal\; font-variant-position: normal\; vertical-align: baseline\; white-space-collapse: preserve\;"> <span style="font-size:12px\;"><span style="font-family:arial\;">Drop your business card for a chance to win exciting prizes!</span></span></span></span></span></p>\n\n<div>\n<p dir="ltr" style="line-height:1.38\;margin-top:12pt\;margin-bottom:12pt\;"><span style="color:#3e4454\;"><span style="font-size:12px\;"><span style="font-family:arial\;"><span id="docs-internal-guid-8c465e71-7fff-78db-dac7-782b04e3f69f"><span style="background-color: transparent\; font-weight: 700\; font-variant-numeric: normal\; font-variant-east-asian: normal\; font-variant-alternates: normal\; font-variant-position: normal\; vertical-align: baseline\; white-space-collapse: preserve\;">Highlights:</span></span></span></span></span></p>\n\n<p dir="ltr" style="line-height:1.38\;margin-top:12pt\;margin-bottom:12pt\;"><span style="color:#3e4454\;"><span id="docs-internal-guid-8c465e71-7fff-78db-dac7-782b04e3f69f"><span style="font-size:12px\;"><span style="font-family:arial\;"><span style="background-color: transparent\; font-weight: 700\; font-variant-numeric: normal\; font-variant-east-asian: normal\; font-variant-alternates: normal\; font-variant-position: normal\; vertical-align: baseline\; white-space-collapse: preserve\;">Free Event:</span></span></span><span style="font-size: 12pt\; font-family: Arial\, sans-serif\; background-color: transparent\; font-variant-numeric: normal\; font-variant-east-asian: normal\; font-variant-alternates: normal\; font-variant-position: normal\; vertical-align: baseline\; white-space-collapse: preserve\;"><span style="font-family:arial\;"> <span style="font-size:12px\;">No cost to attend&mdash\;just bring your business cards and a positive attitude!</span></span></span></span></span></p>\n\n<p dir="ltr" style="line-height:1.38\;margin-top:12pt\;margin-bottom:12pt\;"><span style="color:#3e4454\;"><span id="docs-internal-guid-8c465e71-7fff-78db-dac7-782b04e3f69f"><span style="font-size:12px\;"><span style="font-family:arial\;"><span style="background-color: transparent\; font-weight: 700\; font-variant-numeric: normal\; font-variant-east-asian: normal\; font-variant-alternates: normal\; font-variant-position: normal\; vertical-align: baseline\; white-space-collapse: preserve\;">Fun Atmosphere:</span></span></span><span style="font-size: 12pt\; font-family: Arial\, sans-serif\; background-color: transparent\; font-variant-numeric: normal\; font-variant-east-asian: normal\; font-variant-alternates: normal\; font-variant-position: normal\; vertical-align: baseline\; white-space-collapse: preserve\;"> <span style="font-size:12px\;"><span style="font-family:arial\;">Meet new people in a relaxed\, friendly environment.</span></span></span></span></span></p>\n\n<p dir="ltr" style="line-height:1.38\;margin-top:12pt\;margin-bottom:12pt\;"><span style="color:#3e4454\;"><span id="docs-internal-guid-8c465e71-7fff-78db-dac7-782b04e3f69f"><span style="font-size:12px\;"><span style="font-family:arial\;"><span style="background-color: transparent\; font-weight: 700\; font-variant-numeric: normal\; font-variant-east-asian: normal\; font-variant-alternates: normal\; font-variant-position: normal\; vertical-align: baseline\; white-space-collapse: preserve\;">Expand Your Network:</span></span></span><span style="font-size: 12pt\; font-family: Arial\, sans-serif\; background-color: transparent\; font-variant-numeric: normal\; font-variant-east-asian: normal\; font-variant-alternates: normal\; font-variant-position: normal\; vertical-align: baseline\; white-space-collapse: preserve\;"><span style="font-size:12px\;"> <span style="font-family:arial\;">Grow your professional circle and discover potential business opportunities.</span></span></span></span></span></p>\n\n<div>&nbsp\;</div>\n</div>\n\n<p>&nbsp\;</p>\n
LOCATION:PingPong.inc 14415 Big Basin Way\, Ste. B Saratoga CA\, 95070
UID:e.517.9035
SEQUENCE:3
DTSTAMP:20260421T012214Z
URL:https://members.saratogachamber.org/events/details/business-networking-mixer-pingpong-info-9035
END:VEVENT

END:VCALENDAR
