BEGIN:VCALENDAR
VERSION:2.0
PRODID:-//ChamberMaster//Event Calendar 2.0//EN
METHOD:PUBLISH
X-PUBLISHED-TTL:P3D
REFRESH-INTERVAL:P3D
CALSCALE:GREGORIAN
BEGIN:VEVENT
DTSTART:20250918T000000Z
DTEND:20250918T020000Z
X-MICROSOFT-CDO-ALLDAYEVENT:FALSE
SUMMARY:Business Networking Mixer - Montalvo Realty
DESCRIPTION:
X-ALT-DESC;FMTTYPE=text/html:
LOCATION:Montalvo Realty
UID:e.517.9050
SEQUENCE:3
DTSTAMP:20260420T034118Z
URL:https://members.saratogachamber.org/events/details/business-networking-mixer-montalvo-realty-9050
END:VEVENT

END:VCALENDAR
