BEGIN:VCALENDAR
VERSION:2.0
PRODID:-//ChamberMaster//Event Calendar 2.0//EN
METHOD:PUBLISH
X-PUBLISHED-TTL:P3D
REFRESH-INTERVAL:P3D
CALSCALE:GREGORIAN
BEGIN:VEVENT
DTSTART:20251016T000000Z
DTEND:20251016T020000Z
X-MICROSOFT-CDO-ALLDAYEVENT:FALSE
SUMMARY:Business Networking Mixer - Help Us Celebrate 99 Years!
DESCRIPTION:Celebrate 99 years of success with us! Join us as we come together for an evening of networking\, unity\, and achievement.\n\n \n\nLet's honor our remarkable journey\, welcome our newest members\, and give thanks to our dedicated members and\n\nBoard of Directors whose passion and commitment keep our chamber thriving. Don't miss this celebration of legacy\,\n\nleadership\, and lasting connections!\n\n \n\n\n	Networking\n	New Member Introductions\n	Champagne Toast \n	Raffle\n	Business Card Drawing\n	Lite Bites\n	Wine by House Family Vineyards
X-ALT-DESC;FMTTYPE=text/html:<div class="ms-outlook-mobile-reference-message skipProofing" dir="ltr" style="font-size: 12pt\; font-family: Aptos\, Arial\, Helvetica\, sans-serif\; color: rgb(0\, 0\, 0)\;">Celebrate 99 years of success with us! Join us as we come together for an evening of networking\, unity\, and achievement.</div>\n\n<div class="ms-outlook-mobile-reference-message skipProofing" dir="ltr" style="font-size: 12pt\; font-family: Aptos\, Arial\, Helvetica\, sans-serif\; color: rgb(0\, 0\, 0)\;">&nbsp\;</div>\n\n<div class="ms-outlook-mobile-reference-message skipProofing" style="font-size: 12pt\; font-family: Aptos\, Arial\, Helvetica\, sans-serif\; color: rgb(0\, 0\, 0)\;">Let&rsquo\;s honor our remarkable journey\, welcome our newest members\, and give thanks to our dedicated members and<br />\nBoard of Directors&mdash\;whose passion and commitment keep our chamber thriving. Don&rsquo\;t miss this celebration of legacy\,<br />\nleadership\, and lasting connections!<br />\n&nbsp\;</div>\n\n<ul>\n	<li class="ms-outlook-mobile-reference-message skipProofing" style="font-size: 12pt\; font-family: Aptos\, Arial\, Helvetica\, sans-serif\; color: rgb(0\, 0\, 0)\;">Networking</li>\n	<li class="ms-outlook-mobile-reference-message skipProofing" style="font-size: 12pt\; font-family: Aptos\, Arial\, Helvetica\, sans-serif\; color: rgb(0\, 0\, 0)\;">New Member Introductions</li>\n	<li class="ms-outlook-mobile-reference-message skipProofing" style="font-size: 12pt\; font-family: Aptos\, Arial\, Helvetica\, sans-serif\; color: rgb(0\, 0\, 0)\;">Champagne Toast&nbsp\;</li>\n	<li class="ms-outlook-mobile-reference-message skipProofing" style="font-size: 12pt\; font-family: Aptos\, Arial\, Helvetica\, sans-serif\; color: rgb(0\, 0\, 0)\;">Raffle</li>\n	<li class="ms-outlook-mobile-reference-message skipProofing" style="font-size: 12pt\; font-family: Aptos\, Arial\, Helvetica\, sans-serif\; color: rgb(0\, 0\, 0)\;">Business Card Drawing</li>\n	<li class="ms-outlook-mobile-reference-message skipProofing" style="font-size: 12pt\; font-family: Aptos\, Arial\, Helvetica\, sans-serif\; color: rgb(0\, 0\, 0)\;">Lite Bites</li>\n	<li class="ms-outlook-mobile-reference-message skipProofing" style="font-size: 12pt\; font-family: Aptos\, Arial\, Helvetica\, sans-serif\; color: rgb(0\, 0\, 0)\;">Wine by House Family Vineyards</li>\n</ul>\n
LOCATION:Saratoga Chamber of Commerce 14460 Big Basin Way Saratoga CA
UID:e.517.9051
SEQUENCE:3
DTSTAMP:20260424T121658Z
URL:https://members.saratogachamber.org/events/details/business-networking-mixer-help-us-celebrate-99-years-9051
END:VEVENT

END:VCALENDAR
