BEGIN:VCALENDAR
VERSION:2.0
PRODID:-//ChamberMaster//Event Calendar 2.0//EN
METHOD:PUBLISH
X-PUBLISHED-TTL:P3D
REFRESH-INTERVAL:P3D
CALSCALE:GREGORIAN
BEGIN:VEVENT
DTSTART:20250417T000000Z
DTEND:20250417T020000Z
X-MICROSOFT-CDO-ALLDAYEVENT:FALSE
SUMMARY:Business Networking Mixer-
DESCRIPTION:Mix and mingle and diversify your business network while creating new connections\n\nwith other like minded business professionals representing various companies in and\n\naround Saratoga. There will be light bites\, and guests will receive two drink tickets.\n\nRemember to bring your business cards for our business card drawing. This event is FREE and open to the public.\n\nActivities:  \n\n- Host introduction\n\n- New member introductions and membership plaques presented\n\n- Business Card Drawing
X-ALT-DESC;FMTTYPE=text/html:<p style="color: rgb(32\, 33\, 36)\; font-family: Roboto\, Arial\, sans-serif\; font-size: 14.6667px\;">Mix and mingle and diversify your business network while creating new connections<br />\nwith other like minded business professionals representing various companies in and<br />\naround Saratoga. There will be light bites\, and guests will receive two drink tickets.</p>\n\n<p style="color: rgb(32\, 33\, 36)\; font-family: Roboto\, Arial\, sans-serif\; font-size: 14.6667px\;">Remember to bring your business cards for our business card drawing. This event is FREE and open to the public.</p>\n\n<p style="color: rgb(32\, 33\, 36)\; font-family: Roboto\, Arial\, sans-serif\; font-size: 14.6667px\;"><b>Activities:&nbsp\;&nbsp\;</b></p>\n\n<p style="color: rgb(32\, 33\, 36)\; font-family: Roboto\, Arial\, sans-serif\; font-size: 14.6667px\;">- Host introduction</p>\n\n<p style="color: rgb(32\, 33\, 36)\; font-family: Roboto\, Arial\, sans-serif\; font-size: 14.6667px\;">- New member introductions and membership plaques presented</p>\n\n<p style="color: rgb(32\, 33\, 36)\; font-family: Roboto\, Arial\, sans-serif\; font-size: 14.6667px\;">- Business Card Drawing</p>\n
LOCATION:Aegis Gallery of Fine Art
UID:e.517.9045
SEQUENCE:3
DTSTAMP:20260420T114430Z
URL:https://members.saratogachamber.org/events/details/business-networking-mixer-04-16-2025-9045
END:VEVENT

END:VCALENDAR
