BEGIN:VCALENDAR
VERSION:2.0
PRODID:-//ChamberMaster//Event Calendar 2.0//EN
METHOD:PUBLISH
X-PUBLISHED-TTL:P3D
REFRESH-INTERVAL:P3D
CALSCALE:GREGORIAN
BEGIN:VEVENT
DTSTART;VALUE=DATE:20090516
DTEND;VALUE=DATE:20090518
TRANSP:TRANSPARENT
X-MICROSOFT-CDO-ALLDAYEVENT:TRUE
SUMMARY:Book Sale at Saratoga Library
DESCRIPTION:Book Sale to benefit library\nincludes paperbacks of all types\, plus CDs\, VHS and cassettes
X-ALT-DESC;FMTTYPE=text/html:Book Sale to benefit library\nincludes paperbacks of all types\, plus CDs\, VHS and cassettes
LOCATION:Saratoga Library 13650 Saratoga Ave
UID:e.517.176
SEQUENCE:3
DTSTAMP:20260424T194653Z
URL:https://members.saratogachamber.org/events/details/book-sale-at-saratoga-library-05-16-2009-176
END:VEVENT

END:VCALENDAR
