BEGIN:VCALENDAR
VERSION:2.0
PRODID:-//ChamberMaster//Event Calendar 2.0//EN
METHOD:PUBLISH
X-PUBLISHED-TTL:P3D
REFRESH-INTERVAL:P3D
CALSCALE:GREGORIAN
BEGIN:VEVENT
DTSTART:20260813T230000Z
DTEND:20260814T000000Z
X-MICROSOFT-CDO-ALLDAYEVENT:FALSE
SUMMARY:Board of Directors Meeting
DESCRIPTION:Board of Directors Monthly Meeting
X-ALT-DESC;FMTTYPE=text/html:Board of Directors Monthly Meeting
LOCATION:14460 Big Basin Way\, Saratoga CA
UID:e.517.10296
SEQUENCE:3
DTSTAMP:20260424T130139Z
URL:https://members.saratogachamber.org/events/details/board-of-directors-meeting-09-10-2026-10296
END:VEVENT

END:VCALENDAR
