BEGIN:VCALENDAR
VERSION:2.0
PRODID:-//ChamberMaster//Event Calendar 2.0//EN
METHOD:PUBLISH
X-PUBLISHED-TTL:P3D
REFRESH-INTERVAL:P3D
CALSCALE:GREGORIAN
BEGIN:VEVENT
DTSTART:20260709T230000Z
DTEND:20260710T000000Z
X-MICROSOFT-CDO-ALLDAYEVENT:FALSE
SUMMARY:Board of Directors Meeting
DESCRIPTION:Board of Directors Monthly Meeting
X-ALT-DESC;FMTTYPE=text/html:Board of Directors Monthly Meeting
LOCATION:14460 Big Basin Way\, Saratoga CA
UID:e.517.10294
SEQUENCE:3
DTSTAMP:20260424T061028Z
URL:https://members.saratogachamber.org/events/details/board-of-directors-meeting-07-09-2026-10294
END:VEVENT

END:VCALENDAR
