BEGIN:VCALENDAR
VERSION:2.0
PRODID:-//ChamberMaster//Event Calendar 2.0//EN
METHOD:PUBLISH
X-PUBLISHED-TTL:P3D
REFRESH-INTERVAL:P3D
CALSCALE:GREGORIAN
BEGIN:VEVENT
DTSTART:20110409T190000Z
DTEND:20110411T000000Z
X-MICROSOFT-CDO-ALLDAYEVENT:FALSE
SUMMARY:Big Basin Vineyards Spring Release Celebration at the Winery
DESCRIPTION:Celebrate the beauty of spring in the vineyards at one of the most beautiful settings in the area\, Big Basin Vineyards. Taste all the new Spring releases\, enjoy live music\, tasty food pairings and vineyard walks. Barrel samples\, and library wines.  Advance tickets may be purchased at a discount on the website:\n\nbigbasinvineyards.com
X-ALT-DESC;FMTTYPE=text/html:\n<br>Celebrate the beauty of spring in the vineyards at one of the most beautiful settings in the area\, Big Basin Vineyards. Taste all the new Spring releases\, enjoy live music\, tasty food pairings and vineyard walks. Barrel samples\, and library wines.  Advance tickets may be purchased at a discount on the website:\n<br>bigbasinvineyards.com\n<br>
LOCATION:830 Memory Lane\, Boulder Creek\, Ca 95006 see the website for directions. Do NOT use Google or Yahoo maps!
UID:e.517.346
SEQUENCE:3
DTSTAMP:20260423T130617Z
URL:https://members.saratogachamber.org/events/details/big-basin-vineyards-spring-release-celebration-at-the-winery-04-09-2011-346
END:VEVENT

END:VCALENDAR
