BEGIN:VCALENDAR
VERSION:2.0
PRODID:-//ChamberMaster//Event Calendar 2.0//EN
METHOD:PUBLISH
X-PUBLISHED-TTL:P3D
REFRESH-INTERVAL:P3D
CALSCALE:GREGORIAN
BEGIN:VEVENT
DTSTART:20101105T180000Z
DTEND:20101105T203000Z
X-MICROSOFT-CDO-ALLDAYEVENT:FALSE
SUMMARY:Awakening Women's Potential Luncheon
DESCRIPTION:Our goal for this luncheon is to bring together the dedicated non-profit organizations in our community that assist and empower women and children.\n\n	\n\n	Keynote Speaker:  Ysabel Duron \n\n	Ysabel Duron is an award winning journalist\, KRON 4-TV Senior Weekend Anchor\, and founder of Latinas Contra Cancer. Ysabel has 40 years in television news broadcasting. As a Latina\, she has been a role model to and influenced many young Latinas throughout the years. Ysabel has turned the spotlight on Latino issues as well as her own battle with breast cancer. As a result she created a non-profit\, Latinas Contra Cancer.  The agency celebrated 7 years of survivorship in September 2009 and offers a wide range of resources including a Spanish language support group.\n\n	 \n\n	Soroptimist International is an organization of dedicated business and professional women who work to improve the lives of women and girls\, in local communities and throughout the world. Soroptimist gives women the ability to take control over their lives\, pursue their own goals\, and live according to their own values. Soroptimist has over 95\,000 members in 120 countries and territories.
X-ALT-DESC;FMTTYPE=text/html:<p>\n	<span style="font-family: arial"><span style="font-size: 12px"><span style="font-size: 11px"><span style="color: #333333">Our goal for this luncheon is to bring together the dedicated non-profit organizations in our community that assist and empower women and children.<br />\n	<br />\n	<em><strong>Keynote Speaker: &nbsp\;Ysabel Duron</strong></em><strong>&nbsp\;</strong></span><br />\n	<span style="color: #333333">Ysabel Duron is an award winning journalist\, KRON 4-TV Senior Weekend Anchor\, and founder of Latinas Contra Cancer. Ysabel has 40 years in television news broadcasting. As a Latina\, she has been a role model to and influenced many young Latinas throughout the years. Ysabel has turned the spotlight on Latino issues as well as her own battle with breast cancer. As a result she created a non-profit\, Latinas Contra Cancer.&nbsp\; The agency celebrated 7 years of survivorship in September 2009 and offers a wide range of resources including a Spanish language support group.</span><br />\n	&nbsp\;<br />\n	<strong><a href="http://www.soroptimist.org/"><span style="text-decoration: underline"><span style="color: #0000ff">Soroptimist International</span></span></a></strong>&nbsp\;is an organization of dedicated <span style="color: #333333">business and professional women who work to improve the lives of women and girls\, in local communities and throughout the world. Soroptimist gives women the ability to take control over their lives\, pursue their own goals\, and live according to their own values. Soroptimist has over 95\,000 members in 120 countries and territories.</span></span><br />\n	&nbsp\;</span></span></p>\n
LOCATION:Villa Ragusa 35 South Second Street Campbell\, CA
UID:e.517.281
SEQUENCE:3
DTSTAMP:20260423T193826Z
URL:https://members.saratogachamber.org/events/details/awakening-women-s-potential-luncheon-11-05-2010-281
END:VEVENT

END:VCALENDAR
