BEGIN:VCALENDAR
VERSION:2.0
PRODID:-//ChamberMaster//Event Calendar 2.0//EN
METHOD:PUBLISH
X-PUBLISHED-TTL:P3D
REFRESH-INTERVAL:P3D
CALSCALE:GREGORIAN
BEGIN:VEVENT
DTSTART:20100818T003000Z
DTEND:20100818T020000Z
X-MICROSOFT-CDO-ALLDAYEVENT:FALSE
SUMMARY:August Mixer / Azule Salon - Aug. 17
DESCRIPTION:Monthly Mixer - Promote your Business or connect with Chamber Members and others.
X-ALT-DESC;FMTTYPE=text/html:<div><div>Monthly Mixer - Promote your Business&nbsp\;or connect with Chamber Members and others.</div></div>
LOCATION:Azule Salon12240 Saratoga-Sunnyvale Rd.Saratoga\, CA
UID:e.517.266
SEQUENCE:3
DTSTAMP:20260423T231718Z
URL:https://members.saratogachamber.org/events/details/august-mixer-azule-salon-aug-17-08-17-2010-266
END:VEVENT

END:VCALENDAR
