BEGIN:VCALENDAR
VERSION:2.0
PRODID:-//ChamberMaster//Event Calendar 2.0//EN
METHOD:PUBLISH
X-PUBLISHED-TTL:P3D
REFRESH-INTERVAL:P3D
CALSCALE:GREGORIAN
BEGIN:VEVENT
DTSTART:20110426T230000Z
DTEND:20110427T040000Z
X-MICROSOFT-CDO-ALLDAYEVENT:FALSE
SUMMARY:AQUI Cal-Mex Fundraiser
DESCRIPTION:Aqui Cal-Mex in downtown Campbell is having a fundraising event for SASCC on Tuesday\, April 26\, 2011 from 4:00 p.m. to 9:00 p.m. Just mention SASCC when paying for your order\, and Aqui will donate 20% of the net sale to SASCC.
X-ALT-DESC;FMTTYPE=text/html:Aqui Cal-Mex in downtown Campbell is having a fundraising event for SASCC on Tuesday\, April 26\, 2011 from 4:00 p.m. to 9:00 p.m. Just mention SASCC when paying for your order\, and Aqui will donate 20% of the net sale to SASCC.
LOCATION:AQUI Cal-Mex 201 E. Campbell Avenue Campbell\, CA 408-374-2784 At the corner of E. Campbell and 2nd Street. Parking next door in the 2nd Street Garage
UID:e.517.354
SEQUENCE:3
DTSTAMP:20260423T130519Z
URL:https://members.saratogachamber.org/events/details/aqui-cal-mex-fundraiser-04-26-2011-354
END:VEVENT

END:VCALENDAR
