BEGIN:VCALENDAR
VERSION:2.0
PRODID:-//ChamberMaster//Event Calendar 2.0//EN
METHOD:PUBLISH
X-PUBLISHED-TTL:P3D
REFRESH-INTERVAL:P3D
CALSCALE:GREGORIAN
BEGIN:VEVENT
DTSTART:20110408T003000Z
DTEND:20110408T020000Z
X-MICROSOFT-CDO-ALLDAYEVENT:FALSE
SUMMARY:April Mixer / Saratoga Retirement Community
DESCRIPTION:Saratoga Retirement Community Mixer\n\nWine tasting by Cinnabar Winery\n\nRaffle
X-ALT-DESC;FMTTYPE=text/html:Saratoga Retirement Community Mixer<br />\nWine tasting by Cinnabar Winery<br />\nRaffle
LOCATION:14500 Fruitvale Ave. Saratoga\, CA
UID:e.517.344
SEQUENCE:3
DTSTAMP:20260423T131202Z
URL:https://members.saratogachamber.org/events/details/april-mixer-saratoga-retirement-community-04-07-2011-344
END:VEVENT

END:VCALENDAR
