BEGIN:VCALENDAR
VERSION:2.0
PRODID:-//ChamberMaster//Event Calendar 2.0//EN
METHOD:PUBLISH
X-PUBLISHED-TTL:P3D
REFRESH-INTERVAL:P3D
CALSCALE:GREGORIAN
BEGIN:VEVENT
DTSTART:20090208T023000Z
DTEND:20090208T043000Z
X-MICROSOFT-CDO-ALLDAYEVENT:FALSE
SUMMARY:Annual Crab Feed
DESCRIPTION:All You can Eat Cragfor only $40 per adult you can enjoy delicious crab with salad\, pasta\, and garlic bread and a soft drink of your choice. Wine and Beer will be avalilable for an extra charge.Kids and Pasta only tickets $15. Tickets sold at:Chamber OfficeColour ShoppeSenior CenterCinnabar Winery - Tasting RoomArgonaut Dental
X-ALT-DESC;FMTTYPE=text/html:<div>All You can Eat Crag</div><div>for only $40 per adult you can enjoy delicious crab with salad\, pasta\, and garlic bread and a soft drink of your choice. Wine and Beer will be avalilable for an extra charge.</div><div>Kids and Pasta only tickets $15.</div><div>&nbsp\;</div><div>Tickets sold at:</div><div>Chamber Office</div><div>Colour Shoppe</div><div>Senior Center</div><div>Cinnabar Winery - Tasting Room</div><div>Argonaut Dental</div>
LOCATION:Sacred Heart Church on Saratoga AveGeary Hall13716 Saratoga Ave\, Saratoga CA
UID:e.517.2
SEQUENCE:3
DTSTAMP:20260424T233545Z
URL:https://members.saratogachamber.org/events/details/annual-crab-feed-02-07-2009-2
END:VEVENT

END:VCALENDAR
