BEGIN:VCALENDAR
VERSION:2.0
PRODID:-//ChamberMaster//Event Calendar 2.0//EN
METHOD:PUBLISH
X-PUBLISHED-TTL:P3D
REFRESH-INTERVAL:P3D
CALSCALE:GREGORIAN
BEGIN:VEVENT
DTSTART:20110923T003000Z
DTEND:20110923T023000Z
X-MICROSOFT-CDO-ALLDAYEVENT:FALSE
SUMMARY:Annual Chamber of Commerce Joint Mixer
DESCRIPTION:Annual Mixer includes - Campbell\, Los Gatos\, Scotts Valley & Saratoga Chambers of  Commerce.\n\nNetwork with Business Owners and Community Leaders from all four Chambers!\n\nVendors from all four neighborhoods will be there sampling their best in food\, wine and microbrews.
X-ALT-DESC;FMTTYPE=text/html:Annual Mixer includes - Campbell\, Los Gatos\, Scotts Valley &amp\; Saratoga Chambers of&nbsp\; Commerce.<br />\nNetwork with Business Owners and Community Leaders from all four Chambers!<br />\nVendors from all four neighborhoods will be there sampling their best in food\, wine and microbrews.
LOCATION:1 W. Campbell Ave.\, Campbell Held at the Campbell Community Center\, outside of building "F"\, outside Reception Patio.
UID:e.517.1263
SEQUENCE:3
DTSTAMP:20260421T080839Z
URL:https://members.saratogachamber.org/events/details/annual-chamber-of-commerce-joint-mixer-09-22-2011-1263
END:VEVENT

END:VCALENDAR
