BEGIN:VCALENDAR
VERSION:2.0
PRODID:-//ChamberMaster//Event Calendar 2.0//EN
METHOD:PUBLISH
X-PUBLISHED-TTL:P3D
REFRESH-INTERVAL:P3D
CALSCALE:GREGORIAN
BEGIN:VEVENT
DTSTART:20110320T180000Z
DTEND:20110320T220000Z
X-MICROSOFT-CDO-ALLDAYEVENT:FALSE
SUMMARY:Annual Bridal Faire
DESCRIPTION:Come join us at our Annual Bridal Faire!\n\n\n\nPlanning for your wedding? Or maybe you are just looking for ideas. Think about spending your Wedding Day with us here at Guglielmo Winery!\n\n\n\nTo help you with your wedding planning\, we would like to invite you to our upcoming Annual Bridal Faire. It will be held on Sunday\, March 20th from 11am to 3pm and is open to the public. \n\n\n\nThis is a great opportunity to meet some of our preferred vendors\, as well as to a little wine and food tasting for your big day. Wine tasting is free for up to four people.\n\n\n\nWe hope you can come and have some fun with us!\n\n\n\nHappy planning!
X-ALT-DESC;FMTTYPE=text/html:Come join us at our Annual Bridal Faire!\n<br>\n<br>Planning for your wedding? Or maybe you are just looking for ideas. Think about spending your Wedding Day with us here at Guglielmo Winery!\n<br>\n<br>To help you with your wedding planning\, we would like to invite you to our upcoming Annual Bridal Faire. It will be held on Sunday\, March 20th from 11am to 3pm and is open to the public. \n<br>\n<br>This is a great opportunity to meet some of our preferred vendors\, as well as to a little wine and food tasting for your big day. Wine tasting is free for up to four people.\n<br>\n<br>We hope you can come and have some fun with us!\n<br>\n<br>Happy planning!\n<br>
LOCATION:Guglielmo Winery 1480 East Main Avenue Morgan Hill\, CA 95037
UID:e.517.337
SEQUENCE:3
DTSTAMP:20260423T141353Z
URL:https://members.saratogachamber.org/events/details/annual-bridal-faire-03-20-2011-337
END:VEVENT

END:VCALENDAR
