BEGIN:VCALENDAR
VERSION:2.0
PRODID:-//ChamberMaster//Event Calendar 2.0//EN
METHOD:PUBLISH
X-PUBLISHED-TTL:P3D
REFRESH-INTERVAL:P3D
CALSCALE:GREGORIAN
BEGIN:VEVENT
DTSTART:20100910T230000Z
DTEND:20100911T030000Z
X-MICROSOFT-CDO-ALLDAYEVENT:FALSE
SUMMARY:Annual Breast Cancer ''Boobie-Q'' fundraiser at Signature Kitchen & Bath Design
DESCRIPTION:BOOBIE-Q 3-Day/60 Mile Walk Fundraiser for Breast Cancer\n\nFriday\, Sept. 10th\n\n12275 Saratoga Sunnyvale Rd\, Saratoga\n\n(Signature Kitchen & Bath)\n\nThe fun Begins at 4pm\n\nFood & Beverages\n\n($10 per person donation - No donation for kids under 12)\n\nMusic and Raffle Prizes ?til 8pm.\n\nTeam Udder Walkers: Patty Hayos\, Liz Ainsworth\, & Edina Adler Bauman\n\nJoin Us...\n\n?Sneak a Peek? participating sponsors.\n\nPampered Chef ? Silpada Designs\n\nWine Shop @ Home ? Wow Green\n\nAnd MORE?.\n\nSpecial fundraising fun for all!\n\nLots of great prizes\, gift cards\, and\n\neven a little impromptu\n\nentertainment!\n\nRSVP\n\n(408) 252-8011\n\nor email\n\nTeamudder@gmail.com
X-ALT-DESC;FMTTYPE=text/html:BOOBIE-Q 3-Day/60 Mile Walk Fundraiser for Breast Cancer\n<br>Friday\, Sept. 10th\n<br>12275 Saratoga Sunnyvale Rd\, Saratoga\n<br>(Signature Kitchen & Bath)\n<br>The fun Begins at 4pm\n<br>Food & Beverages\n<br>($10 per person donation - No donation for kids under 12)\n<br>Music and Raffle Prizes ?til 8pm.\n<br>Team Udder Walkers: Patty Hayos\, Liz Ainsworth\, & Edina Adler Bauman\n<br>Join Us...\n<br>?Sneak a Peek? participating sponsors.\n<br>Pampered Chef ? Silpada Designs\n<br>Wine Shop @ Home ? Wow Green\n<br>And MORE?.\n<br>Special fundraising fun for all!\n<br>Lots of great prizes\, gift cards\, and\n<br>even a little impromptu\n<br>entertainment!\n<br>RSVP\n<br>(408) 252-8011\n<br>or email\n<br>Teamudder@gmail.com\n<br>
LOCATION:12275 Saratoga Sunnyvale Rd Saratoga\, CA 95070
UID:e.517.277
SEQUENCE:3
DTSTAMP:20260423T215845Z
URL:https://members.saratogachamber.org/events/details/annual-breast-cancer-boobie-q-fundraiser-at-signature-kitchen-bath-design-09-10-2010-277
END:VEVENT

END:VCALENDAR
