BEGIN:VCALENDAR
VERSION:2.0
PRODID:-//ChamberMaster//Event Calendar 2.0//EN
METHOD:PUBLISH
X-PUBLISHED-TTL:P3D
REFRESH-INTERVAL:P3D
CALSCALE:GREGORIAN
BEGIN:VEVENT
DTSTART:20100327T161500Z
DTEND:20100327T170000Z
X-MICROSOFT-CDO-ALLDAYEVENT:FALSE
SUMMARY:American Association of University Women (AAUW) general Meeting
DESCRIPTION:American Association of University Women (AAUW) general Meeting on Saturday\, March 27\, 2010 at the Saratoga Library Community Room\, 13650 Saratoga Avenue\, Saratoga at 9:15-10:00 am\, New Member Outreach. Our program features Susan Hammer speaking on Charter Schools at 10:00 am. All are welcome\, particularly potential new members.
X-ALT-DESC;FMTTYPE=text/html:<div><span lang="EN"><p>American Association of University Women (AAUW) general Meeting on Saturday\, March 27\, 2010 at the Saratoga Library Community Room\, 13650 Saratoga Avenue\, Saratoga at 9:15-10:00 am\, New Member Outreach. Our program features Susan Hammer speaking on Charter Schools at 10:00 am.&nbsp\;</p><p>All are welcome\, particularly potential new members.</p></span></div>
LOCATION:Saratoga Library - Community Room13650 Saratoga AvenueSaratoga\, CA
UID:e.517.220
SEQUENCE:3
DTSTAMP:20260424T055851Z
URL:https://members.saratogachamber.org/events/details/american-association-of-university-women-aauw-general-meeting-03-27-2010-220
END:VEVENT

END:VCALENDAR
