BEGIN:VCALENDAR
VERSION:2.0
PRODID:-//ChamberMaster//Event Calendar 2.0//EN
METHOD:PUBLISH
X-PUBLISHED-TTL:P3D
REFRESH-INTERVAL:P3D
CALSCALE:GREGORIAN
BEGIN:VEVENT
DTSTART:20110414T020000Z
DTEND:20110414T033000Z
X-MICROSOFT-CDO-ALLDAYEVENT:FALSE
SUMMARY:ADVANCES IN THE SURGICAL TREATMENT OF SPINAL DISORDERS
DESCRIPTION:Advances in the surgical treatment of spinal disorders: Minimally invasive surgery and total disc replacement.\n\n\n\nHear about advances in the surgical treatment of spinal disorders.\n\n\n\nAn interactive lecture and Q & A session led by Jeffery Coe\, MD and Michael Cluck\, MD\, orthopedic spine surgeon.
X-ALT-DESC;FMTTYPE=text/html:Advances in the surgical treatment of spinal disorders: Minimally invasive surgery and total disc replacement.\n<br>\n<br>Hear about advances in the surgical treatment of spinal disorders.\n<br>\n<br>An interactive lecture and Q &amp\; A session led by Jeffery Coe\, MD and Michael Cluck\, MD\, orthopedic spine surgeon.
LOCATION:El Camino Hospital Los Gatos 815 Pollard Road\, Los Gatos Conference Center\, rooms 1 and 2 Convenient parking
UID:e.517.343
SEQUENCE:3
DTSTAMP:20260423T131416Z
URL:https://members.saratogachamber.org/events/details/advances-in-the-surgical-treatment-of-spinal-disorders-04-13-2011-343
END:VEVENT

END:VCALENDAR
