BEGIN:VCALENDAR
VERSION:2.0
PRODID:-//ChamberMaster//Event Calendar 2.0//EN
METHOD:PUBLISH
X-PUBLISHED-TTL:P3D
REFRESH-INTERVAL:P3D
CALSCALE:GREGORIAN
BEGIN:VEVENT
DTSTART:20110618T170000Z
DTEND:20110619T010000Z
X-MICROSOFT-CDO-ALLDAYEVENT:FALSE
SUMMARY:A Sidewalk Affaire
DESCRIPTION:
X-ALT-DESC;FMTTYPE=text/html:
LOCATION:Big Basin Way Saratoga\, CA
UID:e.517.322
SEQUENCE:3
DTSTAMP:20260423T104233Z
URL:https://members.saratogachamber.org/events/details/a-sidewalk-affaire-06-18-2011-322
END:VEVENT

END:VCALENDAR
