BEGIN:VCALENDAR
VERSION:2.0
PRODID:-//ChamberMaster//Event Calendar 2.0//EN
METHOD:PUBLISH
X-PUBLISHED-TTL:P3D
REFRESH-INTERVAL:P3D
CALSCALE:GREGORIAN
BEGIN:VEVENT
DTSTART:20100313T174500Z
DTEND:20100314T000000Z
X-MICROSOFT-CDO-ALLDAYEVENT:FALSE
SUMMARY:A Day at the Shark Tank
DESCRIPTION:Speakers\, lunch and a Sharks game. Saratoga Federated Church Men's Ministries Speaker Series. Featured speakers include Greg Jamison\, Sharks President and CEO\, Steve Mariucci\, NFL Analyst and former SF49er Head Coach\, and Steve's son Tyler Mariucci\, Assistant Athletic Director and Director of Development for Valley Christian Schools. This event is great for father/son (teenage) and/or friend.
X-ALT-DESC;FMTTYPE=text/html:Speakers\, lunch and a Sharks game. Saratoga Federated Church Men's Ministries Speaker Series. Featured speakers include Greg Jamison\, Sharks President and CEO\, Steve Mariucci\, NFL Analyst and former SF49er Head Coach\, and Steve's son Tyler Mariucci\, Assistant Athletic Director and Director of Development for Valley Christian Schools. This event is great for father/son (teenage) and/or friend. 
LOCATION:HP Pavilion\, San Jose
UID:e.517.214
SEQUENCE:3
DTSTAMP:20260424T055523Z
URL:https://members.saratogachamber.org/events/details/a-day-at-the-shark-tank-03-13-2010-214
END:VEVENT

END:VCALENDAR
