BEGIN:VCALENDAR
VERSION:2.0
PRODID:-//ChamberMaster//Event Calendar 2.0//EN
METHOD:PUBLISH
X-PUBLISHED-TTL:P3D
REFRESH-INTERVAL:P3D
CALSCALE:GREGORIAN
BEGIN:VEVENT
DTSTART:20110515T203000Z
DTEND:20110515T230000Z
X-MICROSOFT-CDO-ALLDAYEVENT:FALSE
SUMMARY:3rd Annual Tea n' Pearls / Soroptimist Int'l
DESCRIPTION:Live entertainment\, pearl purchases from Pearl Angel (Angel Rampy) and raffles galore from the hottest spots in the bay area.  All proceeds go to assist women and girls in our community through scholarships\, GED testing and other support.  Tickets and raffle tickets can be purchased on line.
X-ALT-DESC;FMTTYPE=text/html:Live entertainment\, pearl purchases from Pearl Angel (Angel Rampy) and raffles galore from the hottest spots in the bay area.&nbsp\; <strong>All proceeds go to assist women and girls in our community through scholarships\, GED testing and other support.&nbsp\; </strong>Tickets and raffle tickets can be purchased on line.<br />\n
LOCATION:Los Gatos Lodge pool patio 50 Los Gatos-Saratoga Rd. Los Gatos\, CA
UID:e.517.355
SEQUENCE:3
DTSTAMP:20260423T115336Z
URL:https://members.saratogachamber.org/events/details/3rd-annual-tea-n-pearls-soroptimist-int-l-05-15-2011-355
END:VEVENT

END:VCALENDAR
