BEGIN:VCALENDAR
VERSION:2.0
PRODID:-//ChamberMaster//Event Calendar 2.0//EN
METHOD:PUBLISH
X-PUBLISHED-TTL:P3D
REFRESH-INTERVAL:P3D
CALSCALE:GREGORIAN
BEGIN:VEVENT
DTSTART:20110423T160000Z
DTEND:20110423T200000Z
X-MICROSOFT-CDO-ALLDAYEVENT:FALSE
SUMMARY:3nd Annual Saratoga Odd Fellows Bring Your Own Basket Easter Egg Hunt
DESCRIPTION:3nd Annual Saratoga Odd Fellows Bring Your Own Basket Easter Egg Hunt.\n\n	\n\n	Pancake Breakfast\n\n	$5.00 - Adults\n\n	$3.00 - Children\n\n	\n\n	Silent Auction\n\n	Sponsors and Donations are coming from the Saratoga Village Business community.\n\n	The silent auction will be held during the breakfast and Easter egg hunt.\n\n	The auction will be closed at 12:00pm.\n\n	The winners will be notified at the end of auction promptly or by phone.
X-ALT-DESC;FMTTYPE=text/html:<div>\n	3nd Annual Saratoga Odd Fellows Bring Your Own Basket Easter Egg Hunt.<br />\n	<br />\n	Pancake Breakfast<br />\n	$5.00 - Adults<br />\n	$3.00 - Children<br />\n	<br />\n	Silent Auction<br />\n	Sponsors and Donations are coming from the Saratoga Village Business community.<br />\n	The silent auction will be held during the breakfast and Easter egg hunt.<br />\n	The auction will be closed at 12:00pm.<br />\n	The winners will be notified at the end of auction promptly or by phone.<br />\n	&nbsp\;</div>\n
LOCATION:Wildwood Park 20764 - 4th Street Saratoga\, CA 95070
UID:e.517.228
SEQUENCE:3
DTSTAMP:20260423T131340Z
URL:https://members.saratogachamber.org/events/details/3nd-annual-saratoga-odd-fellows-bring-your-own-basket-easter-egg-hunt-04-23-2011-228
END:VEVENT

END:VCALENDAR
