BEGIN:VCALENDAR
VERSION:2.0
PRODID:-//ChamberMaster//Event Calendar 2.0//EN
METHOD:PUBLISH
X-PUBLISHED-TTL:P3D
REFRESH-INTERVAL:P3D
CALSCALE:GREGORIAN
BEGIN:VEVENT
DTSTART:20090313T183000Z
DTEND:20090313T200000Z
X-MICROSOFT-CDO-ALLDAYEVENT:FALSE
SUMMARY:2nd Quarter Luncheon
DESCRIPTION:"You're Worth More than You Think and MUCH More than You are Currently Charging"Speaker - Jeff Slayter w/ World's Hidden Masters This is designed for those who would like to get more money for their product or service\, and are looking for sophisticated ways to both understand their customers? deeper and feel more in control of creating financial results.
X-ALT-DESC;FMTTYPE=text/html:<div>&quot\;You&rsquo\;re Worth More than You Think and MUCH More than You are Currently Charging&quot\;</div><div>Speaker - Jeff Slayter w/ World&rsquo\;s Hidden Masters</div><div>&nbsp\;</div><div>This is designed for those who would like to get more money for their product or service\, and are looking for sophisticated ways to both understand their customers? deeper and feel more in control of creating financial results.</div>
LOCATION:Florentines Restaurant-14510-B Big Basin Way\, Saratoga\,CA
UID:e.517.172
SEQUENCE:3
DTSTAMP:20260424T221258Z
URL:https://members.saratogachamber.org/events/details/2nd-quarter-luncheon-03-13-2009-172
END:VEVENT

END:VCALENDAR
