BEGIN:VCALENDAR
VERSION:2.0
PRODID:-//ChamberMaster//Event Calendar 2.0//EN
METHOD:PUBLISH
X-PUBLISHED-TTL:P3D
REFRESH-INTERVAL:P3D
CALSCALE:GREGORIAN
BEGIN:VEVENT
DTSTART:20101029T003000Z
DTEND:20101029T023000Z
X-MICROSOFT-CDO-ALLDAYEVENT:FALSE
SUMMARY:2nd Annual Joint Mixer
DESCRIPTION:Campbell\, Los Gatos\, Saratoga & Scotts Valley Chambers of Commerce Joint Mixer\n\n\n\nRestaurants\, Wineries & Caterers from all four Chambers will generously be porviding the food & drink for this special event.\n\n\n\nJoin us for this once a year opportunity to network with business people from our neighboring communities.  Come prepared with lots of business cards & ready to meet potential clients & customers!
X-ALT-DESC;FMTTYPE=text/html:Campbell\, Los Gatos\, Saratoga &amp\; Scotts Valley Chambers of Commerce Joint Mixer<br />\n<br />\nRestaurants\, Wineries &amp\; Caterers from all four Chambers will generously be porviding the food &amp\; drink for this special event.<br />\n<br />\nJoin us for this once a year opportunity to network with business people from our neighboring communities.&nbsp\; Come prepared with lots of business cards &amp\; ready to meet potential clients &amp\; customers!
LOCATION:Hilton Santa Cruz / Scotts Valley 6001 La Madrona Drive Scotts Valley\, CA
UID:e.517.282
SEQUENCE:3
DTSTAMP:20260423T204952Z
URL:https://members.saratogachamber.org/events/details/2nd-annual-joint-mixer-10-28-2010-282
END:VEVENT

END:VCALENDAR
